BEGIN:VCALENDAR
VERSION:2.0
PRODID:-//hacksw/handcal//NONSGML v1.0//EN
CALSCALE:GREGORIAN
BEGIN:VEVENT
ORGANIZER;CN=Nokia Oyj:MAILTO:no-reply@mail.gcs-web.com
DTEND:20260513T150000Z
UID:4cc9d60c-eb3a-4b65-aeef-07f098ce121b
DTSTAMP:1776953498
LOCATION:https://nokia.gcs-web.com/events/event-details/danske-bank-nordic-seminar
DESCRIPTION:Event Details https://nokia.gcs-web.com/events/event-details/danske-bank-nordic-seminar
URL;VALUE=URI:https://nokia.gcs-web.com/events/event-details/danske-bank-nordic-seminar
SUMMARY:Nokia Oyj - Danske Bank Nordic Seminar
DTSTART:20260513T060000Z
END:VEVENT
END:VCALENDAR